BEGIN:VCALENDAR
VERSION:2.0
PRODID:-//NPEX - ECPv6.7.1//NONSGML v1.0//EN
CALSCALE:GREGORIAN
METHOD:PUBLISH
X-WR-CALNAME:NPEX
X-ORIGINAL-URL:https://www.npex.nl
X-WR-CALDESC:Evenementen voor NPEX
REFRESH-INTERVAL;VALUE=DURATION:PT1H
X-Robots-Tag:noindex
X-PUBLISHED-TTL:PT1H
BEGIN:VTIMEZONE
TZID:Europe/Amsterdam
BEGIN:DAYLIGHT
TZOFFSETFROM:+0100
TZOFFSETTO:+0200
TZNAME:CEST
DTSTART:20190331T010000
END:DAYLIGHT
BEGIN:STANDARD
TZOFFSETFROM:+0200
TZOFFSETTO:+0100
TZNAME:CET
DTSTART:20191027T010000
END:STANDARD
BEGIN:DAYLIGHT
TZOFFSETFROM:+0100
TZOFFSETTO:+0200
TZNAME:CEST
DTSTART:20200329T010000
END:DAYLIGHT
BEGIN:STANDARD
TZOFFSETFROM:+0200
TZOFFSETTO:+0100
TZNAME:CET
DTSTART:20201025T010000
END:STANDARD
END:VTIMEZONE
BEGIN:VEVENT
DTSTART;VALUE=DATE:20200414
DTEND;VALUE=DATE:20200416
DTSTAMP:20260419T191435
CREATED:20201229T160254Z
LAST-MODIFIED:20210921T095431Z
UID:21177-1586829600-1586915999@www.npex.nl
SUMMARY:Nationaal Groeikapitaal Congres
DESCRIPTION:
URL:https://www.npex.nl/event/nationaal-groeikapitaal-congres-4/
LOCATION:Dam 27\, Amsterdam\, Dam 27\, Amsterdam\, Nederland
CATEGORIES:Afgelopen
ATTACH;FMTTYPE=image/png:https://www.npex.nl/wp-content/uploads/2021/09/grijs-afbeelding-evenementen-1.png
END:VEVENT
BEGIN:VEVENT
DTSTART;VALUE=DATE:20190101
DTEND;VALUE=DATE:20190103
DTSTAMP:20260419T191435
CREATED:20201231T090652Z
LAST-MODIFIED:20210921T094255Z
UID:21217-1546304400-1546390799@www.npex.nl
SUMMARY:MKB Ondernemers Congres
DESCRIPTION:Het MKB Ondernemers Congres van RTL is hét jaarlijkse oplaadpunt voor succesvolle ondernemers. De beste ideeën\, sprekers én netwerk voor ondernemers die op zoek zijn naar nieuwe inzichten en inspiratie voor meer zakelijk én persoonlijk succes. \nNPEX is in samenwerking met ONL voor Ondernemers aanwezig op de Expovloer.
URL:https://www.npex.nl/event/mkb-ondernemers-congres/
LOCATION:Brabant\, Brabant\, Nederland
CATEGORIES:Afgelopen
ATTACH;FMTTYPE=image/png:https://www.npex.nl/wp-content/uploads/2021/09/grijs-afbeelding-evenementen-1.png
END:VEVENT
END:VCALENDAR