BEGIN:VCALENDAR
VERSION:2.0
PRODID:-//NPEX - ECPv6.7.1//NONSGML v1.0//EN
CALSCALE:GREGORIAN
METHOD:PUBLISH
X-WR-CALNAME:NPEX
X-ORIGINAL-URL:https://www.npex.nl
X-WR-CALDESC:Evenementen voor NPEX
REFRESH-INTERVAL;VALUE=DURATION:PT1H
X-Robots-Tag:noindex
X-PUBLISHED-TTL:PT1H
BEGIN:VTIMEZONE
TZID:Europe/Amsterdam
BEGIN:DAYLIGHT
TZOFFSETFROM:+0100
TZOFFSETTO:+0200
TZNAME:CEST
DTSTART:20190331T010000
END:DAYLIGHT
BEGIN:STANDARD
TZOFFSETFROM:+0200
TZOFFSETTO:+0100
TZNAME:CET
DTSTART:20191027T010000
END:STANDARD
BEGIN:DAYLIGHT
TZOFFSETFROM:+0100
TZOFFSETTO:+0200
TZNAME:CEST
DTSTART:20200329T010000
END:DAYLIGHT
BEGIN:STANDARD
TZOFFSETFROM:+0200
TZOFFSETTO:+0100
TZNAME:CET
DTSTART:20201025T010000
END:STANDARD
BEGIN:DAYLIGHT
TZOFFSETFROM:+0100
TZOFFSETTO:+0200
TZNAME:CEST
DTSTART:20210328T010000
END:DAYLIGHT
BEGIN:STANDARD
TZOFFSETFROM:+0200
TZOFFSETTO:+0100
TZNAME:CET
DTSTART:20211031T010000
END:STANDARD
END:VTIMEZONE
BEGIN:VEVENT
DTSTART;TZID=Europe/Amsterdam:20210210T100000
DTEND;TZID=Europe/Amsterdam:20210210T110000
DTSTAMP:20260419T172621
CREATED:20210210T082846Z
LAST-MODIFIED:20210210T082846Z
UID:22064-1612951200-1612954800@www.npex.nl
SUMMARY:Buitengewone vergadering van obligatiehouders Quest
DESCRIPTION:
URL:https://www.npex.nl/event/buitengewone-vergadering-van-obligatiehouders-quest/
LOCATION:Online
ATTACH;FMTTYPE=image/png:https://www.npex.nl/wp-content/uploads/2020/12/Algemene-afbeelding-evenementen.png
END:VEVENT
BEGIN:VEVENT
DTSTART;TZID=Europe/Amsterdam:20210202T103000
DTEND;TZID=Europe/Amsterdam:20210202T120000
DTSTAMP:20260419T172621
CREATED:20210114T140331Z
LAST-MODIFIED:20210114T140331Z
UID:21575-1612261800-1612267200@www.npex.nl
SUMMARY:Beleggersbijeenkomst Certificaathouders Ecovat
DESCRIPTION:
URL:https://www.npex.nl/event/beleggersbijeenkomst-certificaathouders-ecovat/
LOCATION:Online
ATTACH;FMTTYPE=image/png:https://www.npex.nl/wp-content/uploads/2020/12/Algemene-afbeelding-evenementen.png
END:VEVENT
BEGIN:VEVENT
DTSTART;TZID=Europe/Amsterdam:20210201T100000
DTEND;TZID=Europe/Amsterdam:20210201T110000
DTSTAMP:20260419T172621
CREATED:20210128T114801Z
LAST-MODIFIED:20210128T115257Z
UID:21906-1612173600-1612177200@www.npex.nl
SUMMARY:Beleggersbijeenkomst Quest
DESCRIPTION:
URL:https://www.npex.nl/event/beleggersbijeenkomst-quest/
LOCATION:Online
ATTACH;FMTTYPE=image/png:https://www.npex.nl/wp-content/uploads/2020/12/Algemene-afbeelding-evenementen.png
END:VEVENT
BEGIN:VEVENT
DTSTART;TZID=Europe/Amsterdam:20210122T110000
DTEND;TZID=Europe/Amsterdam:20210122T120000
DTSTAMP:20260419T172621
CREATED:20210114T094005Z
LAST-MODIFIED:20210114T145240Z
UID:21563-1611313200-1611316800@www.npex.nl
SUMMARY:Online beleggersbijeenkomst I Love Sushi
DESCRIPTION:
URL:https://www.npex.nl/event/online-beleggersbijeenkomst-i-love-sushi/
LOCATION:Online
ATTACH;FMTTYPE=image/png:https://www.npex.nl/wp-content/uploads/2021/01/ilovesushi_Evenement.png
END:VEVENT
BEGIN:VEVENT
DTSTART;TZID=Europe/Amsterdam:20210120T160000
DTEND;TZID=Europe/Amsterdam:20210120T170000
DTSTAMP:20260419T172621
CREATED:20210114T135100Z
LAST-MODIFIED:20210114T145303Z
UID:21571-1611158400-1611162000@www.npex.nl
SUMMARY:Vergadering van obligatiehouders BOB Autowas
DESCRIPTION:
URL:https://www.npex.nl/event/vvo-bob-autowas/
LOCATION:Online
ATTACH;FMTTYPE=image/png:https://www.npex.nl/wp-content/uploads/2021/01/BOB_Evenement.png
END:VEVENT
BEGIN:VEVENT
DTSTART;TZID=Europe/Amsterdam:20210111T110000
DTEND;TZID=Europe/Amsterdam:20210111T123000
DTSTAMP:20260419T172621
CREATED:20201231T103031Z
LAST-MODIFIED:20201231T113135Z
UID:21245-1610362800-1610368200@www.npex.nl
SUMMARY:Vergadering van obligatiehouders Bouman Industries B.V.
DESCRIPTION:De  jaarlijkse  vergadering  van  obligatiehouders  van  Bouman  Industries B.V. (“uitgevende instelling”) vindt plaats op maandag 11 januari  2021 om 11.00 uur via Zoom video conference.
URL:https://www.npex.nl/event/uitnodiging-vergadering-van-obligatiehouders-bouman-industries-b-v/
LOCATION:Online
ATTACH;FMTTYPE=image/png:https://www.npex.nl/wp-content/uploads/2020/12/Bouman-Industries_evenement.png
END:VEVENT
BEGIN:VEVENT
DTSTART;VALUE=DATE:20201223
DTEND;VALUE=DATE:20201225
DTSTAMP:20260419T172621
CREATED:20201231T115023Z
LAST-MODIFIED:20210921T101409Z
UID:21252-1608685200-1608771599@www.npex.nl
SUMMARY:Online beleggersbijeenkomst wagamama
DESCRIPTION:
URL:https://www.npex.nl/event/online-beleggersbijeenkomst-wagamama/
LOCATION:Online
CATEGORIES:Afgelopen
ATTACH;FMTTYPE=image/png:https://www.npex.nl/wp-content/uploads/2020/12/Grijs_Wagamama_Evenement-2.png
END:VEVENT
BEGIN:VEVENT
DTSTART;VALUE=DATE:20201218
DTEND;VALUE=DATE:20201220
DTSTAMP:20260419T172621
CREATED:20201224T120248Z
LAST-MODIFIED:20210921T101406Z
UID:21111-1608253200-1608339599@www.npex.nl
SUMMARY:Online beleggersbijeenkomst LCS Piping
DESCRIPTION:
URL:https://www.npex.nl/event/online-beleggersbijeenkomst-lcs-piping/
LOCATION:Online
CATEGORIES:Afgelopen
ATTACH;FMTTYPE=image/png:https://www.npex.nl/wp-content/uploads/2021/09/Grijs_LCP-Piping-2.png
END:VEVENT
BEGIN:VEVENT
DTSTART;VALUE=DATE:20201120
DTEND;VALUE=DATE:20201122
DTSTAMP:20260419T172621
CREATED:20201231T100829Z
LAST-MODIFIED:20210921T100723Z
UID:21242-1605834000-1605920399@www.npex.nl
SUMMARY:Online beleggersbijeenkomst Innr Lighting
DESCRIPTION:
URL:https://www.npex.nl/event/online-beleggersbijeenkomst-innr-lighting/
LOCATION:Online
CATEGORIES:Afgelopen
ATTACH;FMTTYPE=image/png:https://www.npex.nl/wp-content/uploads/2020/12/grijs_Innr_evenement-2.png
END:VEVENT
BEGIN:VEVENT
DTSTART;VALUE=DATE:20201015
DTEND;VALUE=DATE:20201017
DTSTAMP:20260419T172621
CREATED:20201231T115952Z
LAST-MODIFIED:20210921T101401Z
UID:21255-1602727200-1602813599@www.npex.nl
SUMMARY:Online beleggersbijeenkomst Speedbooks
DESCRIPTION:Op donderdag 15 oktober 2020 heeft NPEX in samenwerking met Speedbooks een virtuele beleggersbijeenkomst georganiseerd. \nLume Paulusma en Konstantijn Mikes hebben een toelichting gegeven op de cijfers\, de emissie en de activiteiten van de onderneming. Ook hebben zij de toekomstplannen van ​​Speedbooks met de daarbij behorende kansen en uitdagingen besproken.
URL:https://www.npex.nl/event/online-beleggersbijeenkomst-speedbooks/
LOCATION:Online
CATEGORIES:Afgelopen
ATTACH;FMTTYPE=image/png:https://www.npex.nl/wp-content/uploads/2021/09/Grijs_Speedbooks_evenement-2.png
END:VEVENT
BEGIN:VEVENT
DTSTART;VALUE=DATE:20200414
DTEND;VALUE=DATE:20200416
DTSTAMP:20260419T172621
CREATED:20201229T160254Z
LAST-MODIFIED:20210921T095431Z
UID:21177-1586829600-1586915999@www.npex.nl
SUMMARY:Nationaal Groeikapitaal Congres
DESCRIPTION:
URL:https://www.npex.nl/event/nationaal-groeikapitaal-congres-4/
LOCATION:Dam 27\, Amsterdam\, Dam 27\, Amsterdam\, Nederland
CATEGORIES:Afgelopen
ATTACH;FMTTYPE=image/png:https://www.npex.nl/wp-content/uploads/2021/09/grijs-afbeelding-evenementen-1.png
END:VEVENT
BEGIN:VEVENT
DTSTART;VALUE=DATE:20190101
DTEND;VALUE=DATE:20190103
DTSTAMP:20260419T172621
CREATED:20201231T090652Z
LAST-MODIFIED:20210921T094255Z
UID:21217-1546304400-1546390799@www.npex.nl
SUMMARY:MKB Ondernemers Congres
DESCRIPTION:Het MKB Ondernemers Congres van RTL is hét jaarlijkse oplaadpunt voor succesvolle ondernemers. De beste ideeën\, sprekers én netwerk voor ondernemers die op zoek zijn naar nieuwe inzichten en inspiratie voor meer zakelijk én persoonlijk succes. \nNPEX is in samenwerking met ONL voor Ondernemers aanwezig op de Expovloer.
URL:https://www.npex.nl/event/mkb-ondernemers-congres/
LOCATION:Brabant\, Brabant\, Nederland
CATEGORIES:Afgelopen
ATTACH;FMTTYPE=image/png:https://www.npex.nl/wp-content/uploads/2021/09/grijs-afbeelding-evenementen-1.png
END:VEVENT
END:VCALENDAR